BEGIN:VCALENDAR
VERSION:2.0
PRODID:-//SMA Negeri 1 Bangsri - ECPv6.13.2.1//NONSGML v1.0//EN
CALSCALE:GREGORIAN
METHOD:PUBLISH
X-ORIGINAL-URL:https://sman1bangsri.sch.id
X-WR-CALDESC:Events for SMA Negeri 1 Bangsri
REFRESH-INTERVAL;VALUE=DURATION:PT1H
X-Robots-Tag:noindex
X-PUBLISHED-TTL:PT1H
BEGIN:VTIMEZONE
TZID:Asia/Krasnoyarsk
BEGIN:STANDARD
TZOFFSETFROM:+0700
TZOFFSETTO:+0700
TZNAME:+07
DTSTART:20250101T000000
END:STANDARD
END:VTIMEZONE
BEGIN:VTIMEZONE
TZID:UTC
BEGIN:STANDARD
TZOFFSETFROM:+0000
TZOFFSETTO:+0000
TZNAME:UTC
DTSTART:20190101T000000
END:STANDARD
END:VTIMEZONE
BEGIN:VEVENT
DTSTART;TZID=Asia/Krasnoyarsk:20251122T190000
DTEND;TZID=Asia/Krasnoyarsk:20251122T213000
DTSTAMP:20260419T213318
CREATED:20251119T084151Z
LAST-MODIFIED:20251119T084151Z
UID:6893-1763838000-1763847000@sman1bangsri.sch.id
SUMMARY:Teater Reges dalam Tajuk "Balada Sumilah"
DESCRIPTION:Sebuah pertunjukan drama yang akan ditampilkan Teater Reges dari SMA Negeri 1 Bangsri akan dipentaskan di Aula SMA Negeri 1 Bangsri\, tanggal 22 November 2025 pukul 19.00 sampai selesai\, dengan judul “Balada Sumilah”. Pentas yang disutradarai Abah Bawono ini akan menjadi bagian dari rangkaian Dies Natalis SMA Negeri 1 Bangsri. Kisah ini akan sangat menarik karena penuh dengan intrik dan layak untuk ditonton. Mari kita nantikan bersama. \n 
URL:https://sman1bangsri.sch.id/event/teater-reges-dalam-tajuk-balada-sumilah/
ATTACH;FMTTYPE=image/jpeg:https://sman1bangsri.sch.id/wp-content/uploads/2025/11/WhatsApp-Image-2025-11-19-at-09.52.24_a77cb8be.jpg
END:VEVENT
BEGIN:VEVENT
DTSTART;TZID=Asia/Krasnoyarsk:20251120T080000
DTEND;TZID=Asia/Krasnoyarsk:20251120T153000
DTSTAMP:20260419T213318
CREATED:20251119T005213Z
LAST-MODIFIED:20251119T020220Z
UID:6886-1763625600-1763652600@sman1bangsri.sch.id
SUMMARY:Dies Natalis SMANSABA ke-43
DESCRIPTION:Dies Natalis SMA Negeri 1 Bangsri yang ke-43 akan diselenggarakan secara meriah pada tanggal 20 November 2025. Kegiatan bertajuk “Mengukir Prestasi Menuju Generasi Emas 2045” ini dikelola secara optimal oleh siswa ini akan tampil berbeda dari sebelumnya. Selain karena adanya banyak talent yang tampil\, dalam acara ini juga akan diisi dengan pameran produk kokurikuler dengan tema “Aku Sayang Lingkunganku”. Kokurikuler yang dilaksanakan tersebut akan memamerkan produk ekonomis sesuai tema yaitu “Ayo Kompos” dari kelas X\, Produk Pemanfaatan Limbah dari kelas XI\, dan Table Garden dari kelas XII. \nDalam acara tersebut\, sejumlah talenta muda dari SMA Negeri 1 Bangsri akan ikut memeriahkan pertunjukan dengan menampilkan bakat musik\, tari\, teater\, dll. \nKebersamaan yang dibangun dalam kegiatan ini menjadi ajang silaturrahim dengan warga sekolah\, guru yang sudah memasuki masa purna\, dan sejumlah alumni yang melepas rasa kangen. Hal tersebut diharapkan mampu menjadi salah bukti nyata bahwa SMA Negeri 1 Bangsri merupakan sekolah inklusif dan mampu menjadi wadah bagi semua warga sekolah untuk bertumbuh dan berkembang secara positif.
URL:https://sman1bangsri.sch.id/event/dies-natalis-smansaba-ke-43/
ATTACH;FMTTYPE=image/png:https://sman1bangsri.sch.id/wp-content/uploads/2025/11/reallygreatsite.com-Logo.png
ORGANIZER;CN="SMANSABA'S Social Club":MAILTO:sman1bangsri@gmail.com
END:VEVENT
BEGIN:VEVENT
DTSTART;TZID=UTC:20210101T100000
DTEND;TZID=UTC:20210101T163000
DTSTAMP:20260419T213318
CREATED:20180816T045715Z
LAST-MODIFIED:20201022T005412Z
UID:5989-1609495200-1609518600@sman1bangsri.sch.id
SUMMARY:Smansaba's Alumni Hot Air Ballon Trip in Turkey
DESCRIPTION:
URL:https://sman1bangsri.sch.id/event/kingsters-alumni-hot-air-ballon-trip-in-turkey/
LOCATION:Smansaba Grand Hall\, Jl. Jerukwangi\, Jepara\, Jawa Tengah\, 59463\, Indonesia
ATTACH;FMTTYPE=image/jpeg:https://sman1bangsri.sch.id/wp-content/uploads/2018/08/ellehem-693-unsplash.jpg
ORGANIZER;CN="SMANSABA'S Social Club":MAILTO:sman1bangsri@gmail.com
END:VEVENT
BEGIN:VEVENT
DTSTART;TZID=UTC:20201121T070000
DTEND;TZID=UTC:20211008T233000
DTSTAMP:20260419T213318
CREATED:20180816T050220Z
LAST-MODIFIED:20201022T002753Z
UID:5993-1605942000-1633735800@sman1bangsri.sch.id
SUMMARY:Reunion Event : Smansaba Alumni Tour
DESCRIPTION:
URL:https://sman1bangsri.sch.id/event/kingsters-alumni-golf-tour/
LOCATION:Sheraton Hotel\, Logan Circle Washington\, DC\, Washington\, United States
ATTACH;FMTTYPE=image/jpeg:https://sman1bangsri.sch.id/wp-content/uploads/2018/08/fancycrave-270977-unsplash.jpg
ORGANIZER;CN="SMANSABA'S Social Club":MAILTO:sman1bangsri@gmail.com
END:VEVENT
BEGIN:VEVENT
DTSTART;TZID=UTC:20191217T130000
DTEND;TZID=UTC:20191217T170000
DTSTAMP:20260419T213318
CREATED:20180816T045533Z
LAST-MODIFIED:20180816T045533Z
UID:5986-1576587600-1576602000@sman1bangsri.sch.id
SUMMARY:Fintech & Key Investment Conference
DESCRIPTION:Far far away\, behind the word mountains\, far from the countries Vokalia and Consonantia\, there live the blind texts. Separated they live in Bookmarksgrove right at the coast of the Semantics\, a large language ocean. A small river named Duden flows by their place and supplies it with the necessary regelialia. It is a paradisematic country\, in which roasted parts of sentences fly into your mouth. Even the all-powerful Pointing has no control about the blind texts it is an almost unorthographic life One day however a small line of blind text by the name
URL:https://sman1bangsri.sch.id/event/fintech-key-investment-conference/
LOCATION:Smansaba Grand Hall\, Jl. Jerukwangi\, Jepara\, Jawa Tengah\, 59463\, Indonesia
ATTACH;FMTTYPE=image/jpeg:https://sman1bangsri.sch.id/wp-content/uploads/2018/08/tyler-callahan-662157-unsplash.jpg
ORGANIZER;CN="SMANSABA'S Social Club":MAILTO:sman1bangsri@gmail.com
END:VEVENT
BEGIN:VEVENT
DTSTART;TZID=UTC:20191104T130000
DTEND;TZID=UTC:20191104T170000
DTSTAMP:20260419T213318
CREATED:20180816T045247Z
LAST-MODIFIED:20180816T045247Z
UID:5984-1572872400-1572886800@sman1bangsri.sch.id
SUMMARY:Sport Management Information Webinar
DESCRIPTION:Far far away\, behind the word mountains\, far from the countries Vokalia and Consonantia\, there live the blind texts. Separated they live in Bookmarksgrove right at the coast of the Semantics\, a large language ocean. A small river named Duden flows by their place and supplies it with the necessary regelialia. It is a paradisematic country\, in which roasted parts of sentences fly into your mouth. Even the all-powerful Pointing has no control about the blind texts it is an almost unorthographic life One day however a small line of blind text by the name
URL:https://sman1bangsri.sch.id/event/sport-management-information-webinar/
LOCATION:Smansaba Grand Hall\, Jl. Jerukwangi\, Jepara\, Jawa Tengah\, 59463\, Indonesia
ATTACH;FMTTYPE=image/jpeg:https://sman1bangsri.sch.id/wp-content/uploads/2018/08/page-title-athletics.jpg
ORGANIZER;CN="SMANSABA'S Social Club":MAILTO:sman1bangsri@gmail.com
END:VEVENT
BEGIN:VEVENT
DTSTART;TZID=UTC:20190911T080000
DTEND;TZID=UTC:20190911T123000
DTSTAMP:20260419T213318
CREATED:20180816T045159Z
LAST-MODIFIED:20180816T045159Z
UID:5982-1568188800-1568205000@sman1bangsri.sch.id
SUMMARY:Planning and Facilitating Effective Meetings
DESCRIPTION:Far far away\, behind the word mountains\, far from the countries Vokalia and Consonantia\, there live the blind texts. Separated they live in Bookmarksgrove right at the coast of the Semantics\, a large language ocean. A small river named Duden flows by their place and supplies it with the necessary regelialia. It is a paradisematic country\, in which roasted parts of sentences fly into your mouth. Even the all-powerful Pointing has no control about the blind texts it is an almost unorthographic life One day however a small line of blind text by the name
URL:https://sman1bangsri.sch.id/event/planning-and-facilitating-effective-meetings/
LOCATION:Smansaba Grand Hall\, Jl. Jerukwangi\, Jepara\, Jawa Tengah\, 59463\, Indonesia
ATTACH;FMTTYPE=image/jpeg:https://sman1bangsri.sch.id/wp-content/uploads/2018/08/shutterstock_59887279.jpg
ORGANIZER;CN="SMANSABA'S Social Club":MAILTO:sman1bangsri@gmail.com
END:VEVENT
BEGIN:VEVENT
DTSTART;TZID=UTC:20190902T080000
DTEND;TZID=UTC:20190902T170000
DTSTAMP:20260419T213318
CREATED:20180816T044427Z
LAST-MODIFIED:20180816T044427Z
UID:5976-1567411200-1567443600@sman1bangsri.sch.id
SUMMARY:Asia Pacific Studies Fall Festival
DESCRIPTION:Far far away\, behind the word mountains\, far from the countries Vokalia and Consonantia\, there live the blind texts. Separated they live in Bookmarksgrove right at the coast of the Semantics\, a large language ocean. A small river named Duden flows by their place and supplies it with the necessary regelialia. It is a paradisematic country\, in which roasted parts of sentences fly into your mouth. Even the all-powerful Pointing has no control about the blind texts it is an almost unorthographic life One day however a small line of blind text by the name
URL:https://sman1bangsri.sch.id/event/asia-pacific-studies-fall-festival/
LOCATION:Smansaba Grand Hall\, Jl. Jerukwangi\, Jepara\, Jawa Tengah\, 59463\, Indonesia
ATTACH;FMTTYPE=image/jpeg:https://sman1bangsri.sch.id/wp-content/uploads/2016/06/shutterstock_218235004.jpg
ORGANIZER;CN="SMANSABA'S Social Club":MAILTO:sman1bangsri@gmail.com
END:VEVENT
END:VCALENDAR